Package: muscle
Version: 3.48.0
Command: /home/biocbuild/R/R/bin/R CMD check --install=check:muscle.install-out.txt --library=/home/biocbuild/R/R/site-library --no-vignettes --timings muscle_3.48.0.tar.gz
StartedAt: 2025-02-11 08:32:43 -0000 (Tue, 11 Feb 2025)
EndedAt: 2025-02-11 08:34:01 -0000 (Tue, 11 Feb 2025)
EllapsedTime: 78.1 seconds
RetCode: 0
Status: WARNINGS
CheckDir: muscle.Rcheck
Warnings: 2