Package: muscle Version: 3.52.0 Command: rm -rf muscle.buildbin-libdir && mkdir muscle.buildbin-libdir && /Users/biocbuild/BBS/utils/build-universal.sh muscle_3.52.0.tar.gz /Library/Frameworks/R.framework/Resources/bin/R muscle.buildbin-libdir StartedAt: 2025-11-18 16:00:47 -0500 (Tue, 18 Nov 2025) EndedAt: 2025-11-18 16:01:10 -0500 (Tue, 18 Nov 2025) EllapsedTime: 23.2 seconds RetCode: 0 Status: OK PackageFile: muscle_3.52.0.tgz PackageFileSize: 497.4 KiB