Package: muscat Version: 1.20.0 Command: /home/biocbuild/bbs-3.20-bioc/R/bin/R CMD build --keep-empty-dirs --no-resave-data muscat StartedAt: 2024-11-19 20:24:56 -0500 (Tue, 19 Nov 2024) EndedAt: 2024-11-19 20:29:12 -0500 (Tue, 19 Nov 2024) EllapsedTime: 255.7 seconds RetCode: 0 Status: OK PackageFile: muscat_1.20.0.tar.gz PackageFileSize: 6.203 MiB