Package: muscat Version: 1.20.0 Command: F:\biocbuild\bbs-3.20-bioc\R\bin\R.exe CMD INSTALL muscat StartedAt: 2025-01-30 16:46:45 -0500 (Thu, 30 Jan 2025) EndedAt: 2025-01-30 16:47:31 -0500 (Thu, 30 Jan 2025) EllapsedTime: 46.2 seconds RetCode: 0 Status: OK