Package: muscat Version: 1.20.0 Command: chmod a+r muscat -R && F:\biocbuild\bbs-3.20-bioc\R\bin\R.exe CMD build --keep-empty-dirs --no-resave-data muscat StartedAt: 2025-01-30 20:28:03 -0500 (Thu, 30 Jan 2025) EndedAt: 2025-01-30 20:37:39 -0500 (Thu, 30 Jan 2025) EllapsedTime: 575.8 seconds RetCode: 0 Status: OK PackageFile: muscat_1.20.0.tar.gz PackageFileSize: 4.238 MiB