Package: muscat Version: 1.20.0 Command: /Library/Frameworks/R.framework/Resources/bin/R CMD build --keep-empty-dirs --no-resave-data muscat StartedAt: 2025-01-30 21:17:15 -0500 (Thu, 30 Jan 2025) EndedAt: 2025-01-30 21:30:20 -0500 (Thu, 30 Jan 2025) EllapsedTime: 785.6 seconds RetCode: 0 Status: OK PackageFile: muscat_1.20.0.tar.gz PackageFileSize: 6.935 MiB