Package: muscat Version: 1.22.0 Command: /Library/Frameworks/R.framework/Resources/bin/R CMD check --install=check:muscat.install-out.txt --library=/Library/Frameworks/R.framework/Resources/library --no-vignettes --timings muscat_1.22.0.tar.gz StartedAt: 2025-04-26 04:50:27 -0400 (Sat, 26 Apr 2025) EndedAt: 2025-04-26 04:57:26 -0400 (Sat, 26 Apr 2025) EllapsedTime: 419.2 seconds RetCode: 0 Status: OK CheckDir: muscat.Rcheck Warnings: 0