Package: muscat Version: 1.20.0 Command: /Library/Frameworks/R.framework/Resources/bin/R CMD build --keep-empty-dirs --no-resave-data muscat StartedAt: 2025-01-31 04:17:25 -0500 (Fri, 31 Jan 2025) EndedAt: 2025-01-31 04:24:13 -0500 (Fri, 31 Jan 2025) EllapsedTime: 407.8 seconds RetCode: 0 Status: OK PackageFile: muscat_1.20.0.tar.gz PackageFileSize: 6.973 MiB