Package: mumosa Version: 1.16.0 Command: /Library/Frameworks/R.framework/Resources/bin/R CMD build --keep-empty-dirs --no-resave-data mumosa StartedAt: 2025-10-14 05:20:56 -0400 (Tue, 14 Oct 2025) EndedAt: 2025-10-14 05:23:16 -0400 (Tue, 14 Oct 2025) EllapsedTime: 139.9 seconds RetCode: 0 Status: OK PackageFile: mumosa_1.16.0.tar.gz PackageFileSize: 657.5 KiB