Package: multistateQTL Version: 2.0.0 Command: /home/biocbuild/R/R/bin/R CMD check --install=check:multistateQTL.install-out.txt --library=/home/biocbuild/R/R/site-library --no-vignettes --timings multistateQTL_2.0.0.tar.gz StartedAt: 2025-05-20 11:14:29 -0000 (Tue, 20 May 2025) EndedAt: 2025-05-20 11:19:49 -0000 (Tue, 20 May 2025) EllapsedTime: 320.7 seconds RetCode: 0 Status: OK CheckDir: multistateQTL.Rcheck Warnings: 0