Package: multicrispr Version: 1.18.0 Command: /home/biocbuild/R/R/bin/R CMD build --keep-empty-dirs --no-resave-data multicrispr StartedAt: 2025-05-16 02:35:12 -0000 (Fri, 16 May 2025) EndedAt: 2025-05-16 02:37:05 -0000 (Fri, 16 May 2025) EllapsedTime: 113.1 seconds RetCode: 0 Status: OK PackageFile: multicrispr_1.18.0.tar.gz PackageFileSize: 2.554 MiB