Package: multicrispr Version: 1.18.0 Command: rm -rf multicrispr.buildbin-libdir && mkdir multicrispr.buildbin-libdir && /Users/biocbuild/BBS/utils/build-universal.sh multicrispr_1.18.0.tar.gz /Library/Frameworks/R.framework/Resources/bin/R multicrispr.buildbin-libdir StartedAt: 2025-04-21 22:44:02 -0400 (Mon, 21 Apr 2025) EndedAt: 2025-04-21 22:44:19 -0400 (Mon, 21 Apr 2025) EllapsedTime: 16.3 seconds RetCode: 0 Status: OK PackageFile: multicrispr_1.18.0.tgz PackageFileSize: 2.746 MiB