Package: multicrispr Version: 1.18.0 Command: /Library/Frameworks/R.framework/Resources/bin/R CMD check --install=check:multicrispr.install-out.txt --library=/Library/Frameworks/R.framework/Resources/library --no-vignettes --timings multicrispr_1.18.0.tar.gz StartedAt: 2025-05-17 02:55:46 -0400 (Sat, 17 May 2025) EndedAt: 2025-05-17 03:02:39 -0400 (Sat, 17 May 2025) EllapsedTime: 413.2 seconds RetCode: 0 Status: OK CheckDir: multicrispr.Rcheck Warnings: 0