Package: multicrispr Version: 1.18.0 Command: rm -rf multicrispr.buildbin-libdir && mkdir multicrispr.buildbin-libdir && /Users/biocbuild/BBS/utils/build-universal.sh multicrispr_1.18.0.tar.gz /Library/Frameworks/R.framework/Resources/bin/R multicrispr.buildbin-libdir StartedAt: 2025-05-17 16:27:55 -0400 (Sat, 17 May 2025) EndedAt: 2025-05-17 16:28:40 -0400 (Sat, 17 May 2025) EllapsedTime: 44.9 seconds RetCode: 0 Status: OK PackageFile: multicrispr_1.18.0.tgz PackageFileSize: 2.744 MiB