Package: multiMiR Version: 1.30.0 Maintainer: Spencer Mahaffey MaintainerEmail: Spencer.Mahaffey at cuanschutz.edu git_url: https://git.bioconductor.org/packages/multiMiR git_branch: RELEASE_3_21 git_last_commit: a965691 git_last_commit_date: 2025-04-15 11:14:24 -0400 (Tue, 15 Apr 2025)