Package: multiHiCcompare Version: 1.26.0 Command: /home/biocbuild/bbs-3.21-bioc/R/bin/R CMD INSTALL multiHiCcompare StartedAt: 2025-10-15 15:31:00 -0400 (Wed, 15 Oct 2025) EndedAt: 2025-10-15 15:31:29 -0400 (Wed, 15 Oct 2025) EllapsedTime: 29.5 seconds RetCode: 0 Status: OK