Package: multiHiCcompare Version: 1.26.0 Command: /home/biocbuild/bbs-3.21-bioc/R/bin/R CMD build --keep-empty-dirs --no-resave-data multiHiCcompare StartedAt: 2025-10-15 18:46:25 -0400 (Wed, 15 Oct 2025) EndedAt: 2025-10-15 18:47:27 -0400 (Wed, 15 Oct 2025) EllapsedTime: 61.1 seconds RetCode: 0 Status: OK PackageFile: multiHiCcompare_1.26.0.tar.gz PackageFileSize: 4.737 MiB