Package: multiHiCcompare Version: 1.26.0 Command: /home/biocbuild/R/R/bin/R CMD check --install=check:multiHiCcompare.install-out.txt --library=/home/biocbuild/R/R/site-library --no-vignettes --timings multiHiCcompare_1.26.0.tar.gz StartedAt: 2025-05-23 11:11:42 -0000 (Fri, 23 May 2025) EndedAt: 2025-05-23 11:17:11 -0000 (Fri, 23 May 2025) EllapsedTime: 329.0 seconds RetCode: 0 Status: OK CheckDir: multiHiCcompare.Rcheck Warnings: 0