Package: multiHiCcompare Version: 1.26.0 Command: /home/biocbuild/R/R/bin/R CMD build --keep-empty-dirs --no-resave-data multiHiCcompare StartedAt: 2025-05-23 02:35:50 -0000 (Fri, 23 May 2025) EndedAt: 2025-05-23 02:37:15 -0000 (Fri, 23 May 2025) EllapsedTime: 85.0 seconds RetCode: 0 Status: OK PackageFile: multiHiCcompare_1.26.0.tar.gz PackageFileSize: 4.67 MiB