Package: multiHiCcompare Version: 1.26.0 Command: /Library/Frameworks/R.framework/Resources/bin/R CMD check --install=check:multiHiCcompare.install-out.txt --library=/Library/Frameworks/R.framework/Resources/library --no-vignettes --timings multiHiCcompare_1.26.0.tar.gz StartedAt: 2025-04-21 20:35:25 -0400 (Mon, 21 Apr 2025) EndedAt: 2025-04-21 20:36:59 -0400 (Mon, 21 Apr 2025) EllapsedTime: 93.1 seconds RetCode: 0 Status: OK CheckDir: multiHiCcompare.Rcheck Warnings: 0