Package: multiGSEA Version: 1.18.0 Command: /Library/Frameworks/R.framework/Resources/bin/R CMD build --keep-empty-dirs --no-resave-data multiGSEA StartedAt: 2025-04-21 17:05:44 -0400 (Mon, 21 Apr 2025) EndedAt: 2025-04-21 17:16:05 -0400 (Mon, 21 Apr 2025) EllapsedTime: 621.2 seconds RetCode: 0 Status: OK PackageFile: multiGSEA_1.18.0.tar.gz PackageFileSize: 952.7 KiB