Package: msqrob2 Version: 1.14.1 Command: /home/biocbuild/R/R/bin/R CMD check --install=check:msqrob2.install-out.txt --library=/home/biocbuild/R/R/site-library --no-vignettes --timings msqrob2_1.14.1.tar.gz StartedAt: 2025-01-31 08:26:01 -0000 (Fri, 31 Jan 2025) EndedAt: 2025-01-31 08:31:18 -0000 (Fri, 31 Jan 2025) EllapsedTime: 317.4 seconds RetCode: 0 Status: OK CheckDir: msqrob2.Rcheck Warnings: 0