Package: msmsEDA Version: 1.46.0 Command: /Library/Frameworks/R.framework/Resources/bin/R CMD INSTALL msmsEDA StartedAt: 2025-04-21 15:34:31 -0400 (Mon, 21 Apr 2025) EndedAt: 2025-04-21 15:35:20 -0400 (Mon, 21 Apr 2025) EllapsedTime: 48.6 seconds RetCode: 0 Status: OK