Package: mslp Version: 1.10.0 Command: chmod a+r mslp -R && E:\biocbuild\bbs-3.21-bioc\R\bin\R.exe CMD build --keep-empty-dirs --no-resave-data mslp StartedAt: 2025-08-14 20:38:41 -0400 (Thu, 14 Aug 2025) EndedAt: 2025-08-14 20:39:26 -0400 (Thu, 14 Aug 2025) EllapsedTime: 45.0 seconds RetCode: 0 Status: OK PackageFile: mslp_1.10.0.tar.gz PackageFileSize: 407.8 KiB