Package: msgbsR Version: 1.32.0 Command: /home/biocbuild/bbs-3.21-bioc/R/bin/R CMD INSTALL msgbsR StartedAt: 2025-10-12 15:51:12 -0400 (Sun, 12 Oct 2025) EndedAt: 2025-10-12 15:52:09 -0400 (Sun, 12 Oct 2025) EllapsedTime: 57.3 seconds RetCode: 0 Status: OK