Package: mpra Version: 1.28.0 Command: /home/biocbuild/R/R/bin/R CMD check --install=check:mpra.install-out.txt --library=/home/biocbuild/R/R/site-library --no-vignettes --timings mpra_1.28.0.tar.gz StartedAt: 2025-01-31 08:20:26 -0000 (Fri, 31 Jan 2025) EndedAt: 2025-01-31 08:23:56 -0000 (Fri, 31 Jan 2025) EllapsedTime: 210.3 seconds RetCode: 0 Status: OK CheckDir: mpra.Rcheck Warnings: 0