Package: mpra Version: 1.30.0 Command: /Library/Frameworks/R.framework/Resources/bin/R CMD INSTALL mpra StartedAt: 2025-05-01 15:30:10 -0400 (Thu, 01 May 2025) EndedAt: 2025-05-01 15:31:03 -0400 (Thu, 01 May 2025) EllapsedTime: 53.0 seconds RetCode: 0 Status: OK