Package: mpra Version: 1.30.0 Command: rm -rf mpra.buildbin-libdir && mkdir mpra.buildbin-libdir && /Users/biocbuild/BBS/utils/build-universal.sh mpra_1.30.0.tar.gz /Library/Frameworks/R.framework/Resources/bin/R mpra.buildbin-libdir StartedAt: 2025-05-02 13:50:27 -0400 (Fri, 02 May 2025) EndedAt: 2025-05-02 13:51:41 -0400 (Fri, 02 May 2025) EllapsedTime: 73.5 seconds RetCode: 0 Status: OK PackageFile: mpra_1.30.0.tgz PackageFileSize: 3.549 MiB