Package: mpra Version: 1.30.0 Command: /Library/Frameworks/R.framework/Resources/bin/R CMD check --install=check:mpra.install-out.txt --library=/Library/Frameworks/R.framework/Resources/library --no-vignettes --timings mpra_1.30.0.tar.gz StartedAt: 2025-05-07 02:48:34 -0400 (Wed, 07 May 2025) EndedAt: 2025-05-07 02:51:57 -0400 (Wed, 07 May 2025) EllapsedTime: 202.9 seconds RetCode: 0 Status: OK CheckDir: mpra.Rcheck Warnings: 0