Package: motifmatchr Version: 1.28.0 Command: /home/biocbuild/R/R/bin/R CMD check --install=check:motifmatchr.install-out.txt --library=/home/biocbuild/R/R/site-library --no-vignettes --timings motifmatchr_1.28.0.tar.gz StartedAt: 2025-01-31 08:19:18 -0000 (Fri, 31 Jan 2025) EndedAt: 2025-01-31 08:25:14 -0000 (Fri, 31 Jan 2025) EllapsedTime: 355.5 seconds RetCode: 0 Status: OK CheckDir: motifmatchr.Rcheck Warnings: 0