Package: motifmatchr Version: 1.30.0 Maintainer: Alicia Schep MaintainerEmail: aschep at gmail.com git_url: https://git.bioconductor.org/packages/motifmatchr git_branch: RELEASE_3_21 git_last_commit: 662d824 git_last_commit_date: 2025-04-15 11:11:33 -0400 (Tue, 15 Apr 2025)