Package: motifTestR Version: 1.4.0 Command: rm -rf motifTestR.buildbin-libdir && mkdir motifTestR.buildbin-libdir && /Users/biocbuild/BBS/utils/build-universal.sh motifTestR_1.4.0.tar.gz /Library/Frameworks/R.framework/Resources/bin/R motifTestR.buildbin-libdir StartedAt: 2025-04-21 00:58:40 -0400 (Mon, 21 Apr 2025) EndedAt: 2025-04-21 00:59:02 -0400 (Mon, 21 Apr 2025) EllapsedTime: 22.0 seconds RetCode: 0 Status: OK PackageFile: motifTestR_1.4.0.tgz PackageFileSize: 1.227 MiB