Package: motifStack Version: 1.52.0 Command: /Library/Frameworks/R.framework/Resources/bin/R CMD INSTALL motifStack StartedAt: 2025-07-21 16:32:21 -0400 (Mon, 21 Jul 2025) EndedAt: 2025-07-21 16:34:00 -0400 (Mon, 21 Jul 2025) EllapsedTime: 99.4 seconds RetCode: 0 Status: OK