Package: motifStack Version: 1.52.0 Command: /home/biocbuild/R/R/bin/R CMD INSTALL motifStack StartedAt: 2025-05-12 21:08:38 -0000 (Mon, 12 May 2025) EndedAt: 2025-05-12 21:09:42 -0000 (Mon, 12 May 2025) EllapsedTime: 64.0 seconds RetCode: 0 Status: OK