Package: mosaics Version: 2.44.0 Command: chmod a+r mosaics -R && F:\biocbuild\bbs-3.20-bioc\R\bin\R.exe CMD build --keep-empty-dirs --no-resave-data mosaics StartedAt: 2025-01-02 20:21:41 -0500 (Thu, 02 Jan 2025) EndedAt: 2025-01-02 20:25:33 -0500 (Thu, 02 Jan 2025) EllapsedTime: 231.5 seconds RetCode: 0 Status: OK PackageFile: mosaics_2.44.0.tar.gz PackageFileSize: 1.852 MiB