Package: monocle Version: 2.34.0 Command: /home/biocbuild/R/R/bin/R CMD build --keep-empty-dirs --no-resave-data monocle StartedAt: 2025-01-31 01:03:28 -0000 (Fri, 31 Jan 2025) EndedAt: 2025-01-31 01:04:04 -0000 (Fri, 31 Jan 2025) EllapsedTime: 36.0 seconds RetCode: 0 Status: OK PackageFile: monocle_2.34.0.tar.gz PackageFileSize: 8.984 MiB