Package: monaLisa Version: 1.12.0 Command: /home/biocbuild/R/R/bin/R CMD check --install=check:monaLisa.install-out.txt --library=/home/biocbuild/R/R/site-library --no-vignettes --timings monaLisa_1.12.0.tar.gz StartedAt: 2025-01-31 08:16:24 -0000 (Fri, 31 Jan 2025) EndedAt: 2025-01-31 08:23:15 -0000 (Fri, 31 Jan 2025) EllapsedTime: 410.5 seconds RetCode: 0 Status: OK CheckDir: monaLisa.Rcheck Warnings: 0