Package: monaLisa Version: 1.14.0 Command: /Library/Frameworks/R.framework/Resources/bin/R CMD INSTALL monaLisa StartedAt: 2025-05-05 16:27:29 -0400 (Mon, 05 May 2025) EndedAt: 2025-05-05 16:28:56 -0400 (Mon, 05 May 2025) EllapsedTime: 86.9 seconds RetCode: 0 Status: OK