Package: monaLisa Version: 1.14.0 Command: /Library/Frameworks/R.framework/Resources/bin/R CMD check --install=check:monaLisa.install-out.txt --library=/Library/Frameworks/R.framework/Resources/library --no-vignettes --timings monaLisa_1.14.0.tar.gz StartedAt: 2025-05-06 06:15:17 -0400 (Tue, 06 May 2025) EndedAt: 2025-05-06 06:27:02 -0400 (Tue, 06 May 2025) EllapsedTime: 704.4 seconds RetCode: 0 Status: OK CheckDir: monaLisa.Rcheck Warnings: 0