Package: monaLisa Version: 1.14.0 Command: rm -rf monaLisa.buildbin-libdir && mkdir monaLisa.buildbin-libdir && /Users/biocbuild/BBS/utils/build-universal.sh monaLisa_1.14.0.tar.gz /Library/Frameworks/R.framework/Resources/bin/R monaLisa.buildbin-libdir StartedAt: 2025-05-06 13:02:12 -0400 (Tue, 06 May 2025) EndedAt: 2025-05-06 13:04:20 -0400 (Tue, 06 May 2025) EllapsedTime: 127.9 seconds RetCode: 0 Status: OK PackageFile: monaLisa_1.14.0.tgz PackageFileSize: 7.08 MiB