Package: monaLisa Version: 1.14.0 Maintainer: Michael Stadler MaintainerEmail: michael.stadler at fmi.ch git_url: https://git.bioconductor.org/packages/monaLisa git_branch: RELEASE_3_21 git_last_commit: 995ea7d git_last_commit_date: 2025-04-15 12:39:23 -0400 (Tue, 15 Apr 2025)