Package: mobileRNA Version: 1.2.0 Command: /home/biocbuild/bbs-3.20-bioc/R/bin/R CMD build --keep-empty-dirs --no-resave-data --md5 mobileRNA StartedAt: 2025-01-30 18:07:52 -0500 (Thu, 30 Jan 2025) EndedAt: 2025-01-30 18:09:22 -0500 (Thu, 30 Jan 2025) EllapsedTime: 89.1 seconds RetCode: 0 Status: OK PackageFile: mobileRNA_1.2.0.tar.gz PackageFileSize: 3.262 MiB