Package: mobileRNA Version: 1.2.0 Command: /Library/Frameworks/R.framework/Resources/bin/R CMD build --keep-empty-dirs --no-resave-data mobileRNA StartedAt: 2025-01-31 03:42:52 -0500 (Fri, 31 Jan 2025) EndedAt: 2025-01-31 03:44:29 -0500 (Fri, 31 Jan 2025) EllapsedTime: 97.1 seconds RetCode: 0 Status: OK PackageFile: mobileRNA_1.2.0.tar.gz PackageFileSize: 3.222 MiB