Package: moanin Version: 1.16.1 Command: /home/biocbuild/bbs-3.21-bioc/R/bin/R CMD build --keep-empty-dirs --no-resave-data moanin StartedAt: 2025-09-28 18:49:11 -0400 (Sun, 28 Sep 2025) EndedAt: 2025-09-28 18:50:14 -0400 (Sun, 28 Sep 2025) EllapsedTime: 63.1 seconds RetCode: 0 Status: OK PackageFile: moanin_1.16.1.tar.gz PackageFileSize: 522.6 KiB