Package: moanin Version: 1.16.0 Maintainer: Nelle Varoquaux MaintainerEmail: nelle.varoquaux at gmail.com git_url: https://git.bioconductor.org/packages/moanin git_branch: RELEASE_3_21 git_last_commit: dab93bc git_last_commit_date: 2025-04-15 12:15:03 -0400 (Tue, 15 Apr 2025)