Package: mnem Version: 1.22.0 Command: /home/biocbuild/bbs-3.20-bioc/R/bin/R CMD INSTALL mnem StartedAt: 2025-01-30 15:52:30 -0500 (Thu, 30 Jan 2025) EndedAt: 2025-01-30 15:53:04 -0500 (Thu, 30 Jan 2025) EllapsedTime: 33.9 seconds RetCode: 0 Status: OK