Package: mitology Version: 1.2.0 Command: /home/biocbuild/bbs-3.22-bioc/R/bin/R CMD INSTALL mitology StartedAt: 2025-11-10 15:56:27 -0500 (Mon, 10 Nov 2025) EndedAt: 2025-11-10 15:56:54 -0500 (Mon, 10 Nov 2025) EllapsedTime: 26.5 seconds RetCode: 0 Status: OK