Package: mitology Version: 1.2.0 Command: /home/biocbuild/bbs-3.22-bioc/R/bin/R CMD build --keep-empty-dirs --no-resave-data --md5 mitology StartedAt: 2025-11-10 18:50:20 -0500 (Mon, 10 Nov 2025) EndedAt: 2025-11-10 18:53:46 -0500 (Mon, 10 Nov 2025) EllapsedTime: 205.2 seconds RetCode: 0 Status: OK PackageFile: mitology_1.2.0.tar.gz PackageFileSize: 4.064 MiB