Package: mitoClone2 Version: 1.12.0 Command: /home/biocbuild/R/R/bin/R CMD INSTALL mitoClone2 StartedAt: 2025-02-10 20:32:24 -0000 (Mon, 10 Feb 2025) EndedAt: 2025-02-10 20:33:27 -0000 (Mon, 10 Feb 2025) EllapsedTime: 63.7 seconds RetCode: 0 Status: OK