Package: mitoClone2 Version: 1.12.0 Command: F:\biocbuild\bbs-3.20-bioc\R\bin\R.exe CMD check --no-multiarch --install=check:mitoClone2.install-out.txt --library=F:\biocbuild\bbs-3.20-bioc\R\library --no-vignettes --timings mitoClone2_1.12.0.tar.gz StartedAt: 2025-02-04 03:50:47 -0500 (Tue, 04 Feb 2025) EndedAt: 2025-02-04 03:58:52 -0500 (Tue, 04 Feb 2025) EllapsedTime: 484.9 seconds RetCode: 0 Status: WARNINGS CheckDir: mitoClone2.Rcheck Warnings: 1